BEGIN:VCALENDAR
VERSION:2.0
PRODID:-//SPEER - ECPv6.15.17.1//NONSGML v1.0//EN
CALSCALE:GREGORIAN
METHOD:PUBLISH
X-ORIGINAL-URL:https://eepartnership.org
X-WR-CALDESC:Events for SPEER
REFRESH-INTERVAL;VALUE=DURATION:PT1H
X-Robots-Tag:noindex
X-PUBLISHED-TTL:PT1H
BEGIN:VTIMEZONE
TZID:America/Chicago
BEGIN:DAYLIGHT
TZOFFSETFROM:-0600
TZOFFSETTO:-0500
TZNAME:CDT
DTSTART:20250309T080000
END:DAYLIGHT
BEGIN:STANDARD
TZOFFSETFROM:-0500
TZOFFSETTO:-0600
TZNAME:CST
DTSTART:20251102T070000
END:STANDARD
BEGIN:DAYLIGHT
TZOFFSETFROM:-0600
TZOFFSETTO:-0500
TZNAME:CDT
DTSTART:20260308T080000
END:DAYLIGHT
BEGIN:STANDARD
TZOFFSETFROM:-0500
TZOFFSETTO:-0600
TZNAME:CST
DTSTART:20261101T070000
END:STANDARD
BEGIN:DAYLIGHT
TZOFFSETFROM:-0600
TZOFFSETTO:-0500
TZNAME:CDT
DTSTART:20270314T080000
END:DAYLIGHT
BEGIN:STANDARD
TZOFFSETFROM:-0500
TZOFFSETTO:-0600
TZNAME:CST
DTSTART:20271107T070000
END:STANDARD
END:VTIMEZONE
BEGIN:VEVENT
DTSTART;VALUE=DATE:20260301
DTEND;VALUE=DATE:20260304
DTSTAMP:20260421T101456
CREATED:20251015T204127Z
LAST-MODIFIED:20251119T155807Z
UID:44043-1772323200-1772582399@eepartnership.org
SUMMARY:TRACS 2026 Summit / TEA-UP Conference
DESCRIPTION:12th Annual TRACS Summit \nMeeting the Moment: Shaping Tomorrow Together \nSPEER is partnering with the Texas Regional Alliance for Campus Sustainability (TRACS) to facilitate this interactive session and learn about the latest trends in energy efficiency\, how to develop resilient systems in response to climate challenges\, and effective methods for fostering a culture of sustainability within your institution. Drive meaningful change in your academic communities. \nRegistration is now open! Early Bird Registration rates end on January 31\, 2026. Head here for more information and register today! \n\nTweet
URL:https://eepartnership.org/events/tea-up-tracs-conference/
LOCATION:St. Edwards University\, 3001 S Congress Ave\, Austin\, TX\, 78704\, United States
END:VEVENT
BEGIN:VEVENT
DTSTART;TZID=America/Chicago:20260302T133000
DTEND;TZID=America/Chicago:20260302T141500
DTSTAMP:20260421T101456
CREATED:20260112T160413Z
LAST-MODIFIED:20260112T160531Z
UID:44260-1772458200-1772460900@eepartnership.org
SUMMARY:TEA-UP Coalition Quarterly Meeting
DESCRIPTION:Join SPEER’s TEA-UP coalition for our upcoming Quarterly Meeting—featuring expert insights\, updates on TEA-UP’s annual goals\, and space for member announcements and collaboration. \nThis meeting will be held in-person at the TRACS Summit! \n\nTweet
URL:https://eepartnership.org/events/tea-up-coalition-quarterly-meeting-2/
LOCATION:St. Edwards University\, 3001 S Congress Ave\, Austin\, TX\, 78704\, United States
END:VEVENT
BEGIN:VEVENT
DTSTART;TZID=America/Chicago:20260310T103000
DTEND;TZID=America/Chicago:20260310T113000
DTSTAMP:20260421T101456
CREATED:20260212T164537Z
LAST-MODIFIED:20260212T164714Z
UID:44392-1773138600-1773142200@eepartnership.org
SUMMARY:Webinar: 2024 IECC Commercial - What to Enforce (Without Mechanical)
DESCRIPTION:The 2024 IECC brings meaningful changes to commercial energy code enforcement—especially for building envelope\, lighting\, electrical systems\, and commissioning. This session cuts through the noise and focuses on what plan reviewers and inspectors in Texas are most often asked to verify in the field and at the counter. By intentionally excluding Section C403 (Mechanical)\, this training zeroes in on the areas that most commonly delay approvals\, trigger corrections\, or result in late-stage compliance disputes. Attendees will walk away with practical enforcement guidance and clear expectations aligned with how commercial projects are actually reviewed and inspected across Texas. \nLessons Learned: \n\nEnvelope mistakes are still the most expensive to fix: Continuous insulation\, air barrier continuity\, and assembly assumptions remain the top sources of late corrections and project delays.\nLighting compliance now lives and dies by controls\, not fixtures: Projects may meet lighting power limits on paper but still fail inspections due to missing or nonfunctional controls and daylighting requirements.\nDocumentation is no longer optional: Commissioning reports\, updated COMcheck files\, and clear submittals are now central to compliance—if it’s not documented\, it didn’t happen.\n\n\nTweet
URL:https://eepartnership.org/events/webinar-2024-iecc-commercial-what-to-enforce-without-mechanical/
END:VEVENT
BEGIN:VEVENT
DTSTART;TZID=America/Chicago:20260326T120000
DTEND;TZID=America/Chicago:20260326T130000
DTSTAMP:20260421T101456
CREATED:20260305T213646Z
LAST-MODIFIED:20260305T213646Z
UID:44444-1774526400-1774530000@eepartnership.org
SUMMARY:Webinar - From Award to Deployment: Maximizing Your EPA Clean School Bus Funding
DESCRIPTION:This session provides an overview of how school districts can move from EPA Clean School Bus award to successful electric school bus (ESB) deployment. Participants will learn key steps to electrifying a school bus fleet\, best practices for infrastructure planning and implementation\, strategies to maximize awarded funding\, and important considerations related to grant requirements and eligibility. The session will also address ESB performance\, including range\, charging\, operations\, and day-to-day capabilities. \nPresenter: Dan Rosefield\, Highland Fleets \n\nTweet
URL:https://eepartnership.org/events/webinar-from-award-to-deployment-maximizing-your-epa-clean-school-bus-funding/
END:VEVENT
END:VCALENDAR