BEGIN:VCALENDAR
VERSION:2.0
PRODID:-//SPEER - ECPv6.15.17.1//NONSGML v1.0//EN
CALSCALE:GREGORIAN
METHOD:PUBLISH
X-ORIGINAL-URL:https://eepartnership.org
X-WR-CALDESC:Events for SPEER
REFRESH-INTERVAL;VALUE=DURATION:PT1H
X-Robots-Tag:noindex
X-PUBLISHED-TTL:PT1H
BEGIN:VTIMEZONE
TZID:America/Chicago
BEGIN:DAYLIGHT
TZOFFSETFROM:-0600
TZOFFSETTO:-0500
TZNAME:CDT
DTSTART:20240310T080000
END:DAYLIGHT
BEGIN:STANDARD
TZOFFSETFROM:-0500
TZOFFSETTO:-0600
TZNAME:CST
DTSTART:20241103T070000
END:STANDARD
BEGIN:DAYLIGHT
TZOFFSETFROM:-0600
TZOFFSETTO:-0500
TZNAME:CDT
DTSTART:20250309T080000
END:DAYLIGHT
BEGIN:STANDARD
TZOFFSETFROM:-0500
TZOFFSETTO:-0600
TZNAME:CST
DTSTART:20251102T070000
END:STANDARD
BEGIN:DAYLIGHT
TZOFFSETFROM:-0600
TZOFFSETTO:-0500
TZNAME:CDT
DTSTART:20260308T080000
END:DAYLIGHT
BEGIN:STANDARD
TZOFFSETFROM:-0500
TZOFFSETTO:-0600
TZNAME:CST
DTSTART:20261101T070000
END:STANDARD
END:VTIMEZONE
BEGIN:VEVENT
DTSTART;TZID=America/Chicago:20251202T093000
DTEND;TZID=America/Chicago:20251202T103000
DTSTAMP:20260421T101426
CREATED:20251015T201858Z
LAST-MODIFIED:20251015T203303Z
UID:44020-1764667800-1764671400@eepartnership.org
SUMMARY:CELC Virtual Coffee Hour: Energizing Connections
DESCRIPTION:Join fellow CELC members for a 10-minute presentation on boosting energy efficiency in our communities followed by an open group discussion and thought sharing. Learn more on our event page and see our current CELC members.  \nRegistration: Sign up as a CELC member to receive the invitation. *CELC members can email cities@eepartnership.org if you do not have the reoccurring meeting invitation. \n\nTweet
URL:https://eepartnership.org/events/celc-virtual-coffee-hour-energizing-connections-9/
END:VEVENT
BEGIN:VEVENT
DTSTART;TZID=America/Chicago:20251211T103000
DTEND;TZID=America/Chicago:20251211T113000
DTSTAMP:20260421T101426
CREATED:20251114T185223Z
LAST-MODIFIED:20251114T185223Z
UID:44129-1765449000-1765452600@eepartnership.org
SUMMARY:Webinar: 2024 IECC Commercial Mechanical Systems – What’s New in Section C403
DESCRIPTION:The 2024 International Energy Conservation Code (IECC) introduces several key updates to Commercial mechanical system requirements found in Section C403—and these changes will directly affect plan reviews\, HVAC designs\, and field inspections. \nJoin us for a practical walkthrough of what’s new in C403 and how these updates will impact compliance and enforcement in your jurisdiction. \nWhat you’ll learn: \n\n New occupied-standby and door interlock control requirements\n Expanded Demand Control Ventilation (DCV) provisions and space-type triggers\n Updated humidification/dehumidification control limits\n Revised ventilation and exhaust requirements\, including dwelling-unit systems\n Introduction to the Total System Performance Ratio (TSPR) compliance option\n Key items plan reviewers and inspectors should verify under the new code\n\n\nTweet
URL:https://eepartnership.org/events/webinar-2024-iecc-commercial-mechanical-systems-whats-new-in-section-c403/
END:VEVENT
END:VCALENDAR