BEGIN:VCALENDAR
VERSION:2.0
PRODID:-//SPEER - ECPv6.15.17.1//NONSGML v1.0//EN
CALSCALE:GREGORIAN
METHOD:PUBLISH
X-WR-CALNAME:SPEER
X-ORIGINAL-URL:https://eepartnership.org
X-WR-CALDESC:Events for SPEER
REFRESH-INTERVAL;VALUE=DURATION:PT1H
X-Robots-Tag:noindex
X-PUBLISHED-TTL:PT1H
BEGIN:VTIMEZONE
TZID:America/Chicago
BEGIN:DAYLIGHT
TZOFFSETFROM:-0600
TZOFFSETTO:-0500
TZNAME:CDT
DTSTART:20220313T080000
END:DAYLIGHT
BEGIN:STANDARD
TZOFFSETFROM:-0500
TZOFFSETTO:-0600
TZNAME:CST
DTSTART:20221106T070000
END:STANDARD
BEGIN:DAYLIGHT
TZOFFSETFROM:-0600
TZOFFSETTO:-0500
TZNAME:CDT
DTSTART:20230312T080000
END:DAYLIGHT
BEGIN:STANDARD
TZOFFSETFROM:-0500
TZOFFSETTO:-0600
TZNAME:CST
DTSTART:20231105T070000
END:STANDARD
BEGIN:DAYLIGHT
TZOFFSETFROM:-0600
TZOFFSETTO:-0500
TZNAME:CDT
DTSTART:20240310T080000
END:DAYLIGHT
BEGIN:STANDARD
TZOFFSETFROM:-0500
TZOFFSETTO:-0600
TZNAME:CST
DTSTART:20241103T070000
END:STANDARD
END:VTIMEZONE
BEGIN:VEVENT
DTSTART;TZID=America/Chicago:20230420T110000
DTEND;TZID=America/Chicago:20230420T120000
DTSTAMP:20260424T080422
CREATED:20230414T140133Z
LAST-MODIFIED:20230414T140133Z
UID:40086-1681988400-1681992000@eepartnership.org
SUMMARY:Webinar: Energy Inspection – Mechanical Ventilation Testing
DESCRIPTION:During this webinar\, we will study and break down the different ventilation equipment that is available and go through the different testing methods being used. The 2021 IECC testing is now required\, but there’s no standard testing method being used. Let’s look at some data about the testing result differences when using different equipment to perform the test. Presenting will be Randy Plumlee\, SPEER’s Energy Code Manager. \nRegister Here \n\nTweet
URL:https://eepartnership.org/events/webinar-energy-inspection-mechanical-ventilation-testing/
CATEGORIES:Energy Codes
END:VEVENT
BEGIN:VEVENT
DTSTART;TZID=America/Chicago:20230420T100000
DTEND;TZID=America/Chicago:20230420T110000
DTSTAMP:20260424T080422
CREATED:20230414T135619Z
LAST-MODIFIED:20230414T135619Z
UID:40083-1681984800-1681988400@eepartnership.org
SUMMARY:CELC Webinar :How to use Data to Create Stories
DESCRIPTION:What makes a story engaging? Characters\, setting\, a seemingly impossible conflict to be resolved in the final pages. Context and detail are vital elements for anyone wanting to go from numbers in a spreadsheet to comprehension on the faces of colleagues and partners. \nIn this webinar\, learn how to identify the key elements of data communication and develop a comprehensive story from start to finish. With a focus on resource conservation\, we will use examples such as building efficiency\, water conservation\, and budgeting. In addition\, we will explore the world of data dashboards and how they can be used  (at their most simple level) to tell several versions of a story from different perspectives.\nPresenter: JT Douglas\, City of Denton \nRegister here. \n\nTweet
URL:https://eepartnership.org/events/celc-webinar-how-to-use-data-to-create-stories/
CATEGORIES:Local Governments
END:VEVENT
BEGIN:VEVENT
DTSTART;TZID=America/Chicago:20230413T110000
DTEND;TZID=America/Chicago:20230413T120000
DTSTAMP:20260424T080422
CREATED:20230331T192639Z
LAST-MODIFIED:20230331T192910Z
UID:40007-1681383600-1681387200@eepartnership.org
SUMMARY:Webinar: Energy Code Inspection Walk-through – Predrywall
DESCRIPTION:The next installment in our energy code inspection walk-through series. This time we’ll go into the pre-drywall inspection and discuss what to look for and how to properly grade the installation quality. Presenting will be Randy Plumlee\, SPEER’s Energy Code Manager. \nRegister Here \n\nTweet
URL:https://eepartnership.org/events/webinar-energy-code-inspection-walk-through-predrywall/
LOCATION:Remote/virtual
END:VEVENT
BEGIN:VEVENT
DTSTART;TZID=America/Chicago:20230412T140000
DTEND;TZID=America/Chicago:20230412T150000
DTSTAMP:20260424T080422
CREATED:20230331T192505Z
LAST-MODIFIED:20230331T192505Z
UID:40004-1681308000-1681311600@eepartnership.org
SUMMARY:Webinar: Industrial Energy Efficiency in a volatile\, high price energy market
DESCRIPTION:SPEER is a member of the Texas Industrial Energy Efficiency Network (TIEEN)\, a network of publicly supported industrial energy-efficiency organizations. TIEEN will present its annual collaborative webinar Wednesday\, April 12\, 2023\, 2:00-3:30 pm (Central). This will be a panel discussion on the topic of Industrial Energy Efficiency in a volatile\, high-price energy market. We invite you to join us at this thought-provoking event\, as we grapple with this challenging topic. Confirmed panelists are: \n\nDerek Reese\, Policy Advisor for the American Petroleum Institute\nJamie Brick\, Expert Engagement Manager at McKinsey\n\nRegistration is open here.\nAdditional details\, including more panelists\, will be announced shortly. See here. \n\nTweet
URL:https://eepartnership.org/events/webinar-industrial-energy-efficiency-in-a-volatile-high-price-energy-market/
LOCATION:Remote/virtual
END:VEVENT
END:VCALENDAR