BEGIN:VCALENDAR
VERSION:2.0
PRODID:-//SPEER - ECPv6.15.17.1//NONSGML v1.0//EN
CALSCALE:GREGORIAN
METHOD:PUBLISH
X-WR-CALNAME:SPEER
X-ORIGINAL-URL:https://eepartnership.org
X-WR-CALDESC:Events for SPEER
REFRESH-INTERVAL;VALUE=DURATION:PT1H
X-Robots-Tag:noindex
X-PUBLISHED-TTL:PT1H
BEGIN:VTIMEZONE
TZID:America/Chicago
BEGIN:DAYLIGHT
TZOFFSETFROM:-0600
TZOFFSETTO:-0500
TZNAME:CDT
DTSTART:20250309T080000
END:DAYLIGHT
BEGIN:STANDARD
TZOFFSETFROM:-0500
TZOFFSETTO:-0600
TZNAME:CST
DTSTART:20251102T070000
END:STANDARD
BEGIN:DAYLIGHT
TZOFFSETFROM:-0600
TZOFFSETTO:-0500
TZNAME:CDT
DTSTART:20260308T080000
END:DAYLIGHT
BEGIN:STANDARD
TZOFFSETFROM:-0500
TZOFFSETTO:-0600
TZNAME:CST
DTSTART:20261101T070000
END:STANDARD
BEGIN:DAYLIGHT
TZOFFSETFROM:-0600
TZOFFSETTO:-0500
TZNAME:CDT
DTSTART:20270314T080000
END:DAYLIGHT
BEGIN:STANDARD
TZOFFSETFROM:-0500
TZOFFSETTO:-0600
TZNAME:CST
DTSTART:20271107T070000
END:STANDARD
END:VTIMEZONE
BEGIN:VEVENT
DTSTART;TZID=America/Chicago:20260430T120000
DTEND;TZID=America/Chicago:20260430T130000
DTSTAMP:20260421T082700
CREATED:20260217T201534Z
LAST-MODIFIED:20260408T171306Z
UID:44406-1777550400-1777554000@eepartnership.org
SUMMARY:CELC Webinar: Utility-Sponsored Energy Efficiency Programs in Texas
DESCRIPTION:Learn about utility-sponsored programs in Texas designed to help commercial and industrial customers reduce energy demand and implement cost-effective efficiency upgrades. This webinar will provide an overview of different utility energy efficiency programs and eligible projects\, available incentives\, and how to take advantage of these programs. \nObjectives: \n\nAn overview of utility energy efficiency programs available to commercial customers\nIncentives and support options that can help offset the cost of energy efficiency improvements\nExpert guidance on how to successfully navigate program requirements and maximize available benefits\n\n\nSpeakers: \n\nJillian McFarland\, Program Manager\, Frontier Energy\nScott Wishart\, Senior Program Consultant\, Frontier Energy\n\n\nTweet
URL:https://eepartnership.org/events/celc-webinar-utility-sponsored-energy-efficiency-programs-in-texas/
END:VEVENT
BEGIN:VEVENT
DTSTART;TZID=America/Chicago:20260505T093000
DTEND;TZID=America/Chicago:20260505T103000
DTSTAMP:20260421T082700
CREATED:20251015T202438Z
LAST-MODIFIED:20260211T192001Z
UID:44030-1777973400-1777977000@eepartnership.org
SUMMARY:CELC Virtual Coffee Hour: Energizing Connections
DESCRIPTION:Join fellow CELC members for a 10-minute presentation on boosting energy efficiency in our communities followed by an open group discussion and thought sharing. Learn more on our event page and see our current CELC members.  \nGuest: Noah Oaks\, Senior Manager of Policy Engagement\, SPEER \nRegistration: Sign up as a CELC member to receive the invitation. *CELC members can email cities@eepartnership.org if you do not have the reoccurring meeting invitation. \n\nTweet
URL:https://eepartnership.org/events/celc-virtual-coffee-hour-energizing-connections-14/
END:VEVENT
BEGIN:VEVENT
DTSTART;TZID=America/Chicago:20260505T103000
DTEND;TZID=America/Chicago:20260505T113000
DTSTAMP:20260421T082700
CREATED:20260420T195952Z
LAST-MODIFIED:20260420T195952Z
UID:44531-1777977000-1777980600@eepartnership.org
SUMMARY:Webinar - Commercial Envelope Air Leakage Testing: IECC & ASHRAE 2019 vs 2022 90.1 Alignment
DESCRIPTION:Join us as our special guest\, Doug Hansley-Pauly from DHP Energy LLC in Oregon\, explores the evolving requirements for commercial building envelope air leakage testing—commonly referred to as blower door testing—under the International Energy Conservation Code (IECC) and ASHRAE 90.1. We’ll break down when whole-building air leakage testing is required\, when visual inspection is allowed\, and how these provisions align (or differ) from ASHRAE 90.1 compliance paths. \nAttendees will gain practical insight into enforcement\, testing procedures\, documentation requirements\, and common pitfalls seen in the field—helping jurisdictions\, designers\, and inspectors ensure compliance and improve building performance. \nTopics / Lessons Learned: \n\nWhen air barrier testing is required vs. when visual inspection is permitted\nKey differences between 2019 and 2022 ASHRAE envelope leakage requirements\nHow IECC and ASHRAE 90.1 compliance paths impact air leakage testing decisions\nCommon field issues\, documentation gaps\, and enforcement strategies for jurisdictions\n\n\nTweet
URL:https://eepartnership.org/events/webinar-commercial-envelope-air-leakage-testing-iecc-ashrae-2019-vs-2022-90-1-alignment/
END:VEVENT
BEGIN:VEVENT
DTSTART;TZID=America/Chicago:20260507T100000
DTEND;TZID=America/Chicago:20260507T110000
DTSTAMP:20260421T082700
CREATED:20260112T161317Z
LAST-MODIFIED:20260112T161317Z
UID:44263-1778148000-1778151600@eepartnership.org
SUMMARY:TEA-UP Coalition Quarterly Meeting
DESCRIPTION:Join SPEER’s TEA-UP coalition for our upcoming Quarterly Meeting—featuring expert insights\, updates on TEA-UP’s annual goals\, and space for member announcements and collaboration. \nHead here to join the meeting. \n\nTweet
URL:https://eepartnership.org/events/tea-up-coalition-quarterly-meeting-3/
END:VEVENT
BEGIN:VEVENT
DTSTART;TZID=America/Chicago:20260513T083000
DTEND;TZID=America/Chicago:20260513T130000
DTSTAMP:20260421T082700
CREATED:20260312T140827Z
LAST-MODIFIED:20260312T182125Z
UID:44452-1778661000-1778677200@eepartnership.org
SUMMARY:Houston Heat Pump Contractor Training Workshop
DESCRIPTION:We’re partnering with SPEER members CenterPoint Energy\, Daikin\, and LG Electronics for another free Heat Pump Contractor Training Workshop! \n*Coffee\, breakfast\, and snacks provided. \nRegister here. \n\nTweet
URL:https://eepartnership.org/events/houston-heat-pump-contractor-training-workshop/
LOCATION:GHBA Education Room\, 9511 W Sam Houston Pkwy N\, Houston\, TX\, 77064\, United States
END:VEVENT
BEGIN:VEVENT
DTSTART;TZID=America/Chicago:20260519T103000
DTEND;TZID=America/Chicago:20260519T113000
DTSTAMP:20260421T082700
CREATED:20260417T162850Z
LAST-MODIFIED:20260417T163003Z
UID:44525-1779186600-1779190200@eepartnership.org
SUMMARY:Webinar: Understanding Code-Driven Energy Metering in Commercial Buildings
DESCRIPTION:Join us as we host Kira Schmidt from AccuEnergy. Her presentation titled “Understanding Code-Driven Energy Metering in Commercial Buildings\,” explains how modern energy codes—such as the International Energy Conservation Code and ASHRAE 90.1—are shifting from design-based compliance to performance-based accountability through required energy metering. It outlines why metering exists\, how compliance paths dictate requirements\, and how codes mandate end-use monitoring\, data logging\, storage\, and reporting. \nThe presentation also connects these requirements to real-world design decisions\, highlighting how metering must be integrated early into electrical and system layouts to ensure compliance and long-term operational success. \nTopics we’ll review: \n\nWhy Code Metering Exists\nHow Compliance Paths are Chosen\nWhat the Code Requires\nHow Code Requirements Impact Design\nCommon Pitfalls and Best Practices\n\n\nTweet
URL:https://eepartnership.org/events/webinar-understanding-code-driven-energy-metering-in-commercial-buildings/
END:VEVENT
BEGIN:VEVENT
DTSTART;TZID=America/Chicago:20260521T120000
DTEND;TZID=America/Chicago:20260521T130000
DTSTAMP:20260421T082700
CREATED:20251120T164830Z
LAST-MODIFIED:20260223T172111Z
UID:44134-1779364800-1779368400@eepartnership.org
SUMMARY:CELC Webinar: Illuminated Insights - A Lighting Provider Power Hour
DESCRIPTION:Join SPEER for a fast-paced\, interactive Lighting Systems Provider Showcase designed to spark new ideas and connect you with industry leaders. The session kicks off with quick-fire\, 5-minute presentations from 4–5 lighting experts—giving you the highlights you need\, fast. After a brief transition\, dive deeper in 20-minute breakout rooms where you can ask questions\, explore solutions\, and collaborate with peers. We’ll wrap with a short closing session to leave you energized and informed. \nPresenters: Cory Payne\, Bryte-Light \n\nTweet
URL:https://eepartnership.org/events/celc-webinar-illuminated-insights-a-lighting-provider-power-hour/
END:VEVENT
BEGIN:VEVENT
DTSTART;TZID=America/Chicago:20260601T093000
DTEND;TZID=America/Chicago:20260601T103000
DTSTAMP:20260421T082700
CREATED:20260211T170540Z
LAST-MODIFIED:20260211T192210Z
UID:44381-1780306200-1780309800@eepartnership.org
SUMMARY:CELC Virtual Coffee Hour: Energizing Connections
DESCRIPTION:Join fellow CELC members for a 10-minute presentation on boosting energy efficiency in our communities followed by an open group discussion and thought sharing. Learn more on our event page and see our current CELC members.  \nGuest: Adam Mueller\, Program Lead\, SECO \nRegistration: Sign up as a CELC member to receive the invitation. *CELC members can email cities@eepartnership.org if you do not have the reoccurring meeting invitation. \n\nTweet
URL:https://eepartnership.org/events/celc-virtual-coffee-hour-energizing-connections-15/
END:VEVENT
BEGIN:VEVENT
DTSTART;TZID=America/Chicago:20260611T120000
DTEND;TZID=America/Chicago:20260611T130000
DTSTAMP:20260421T082700
CREATED:20260202T151032Z
LAST-MODIFIED:20260313T174846Z
UID:44350-1781179200-1781182800@eepartnership.org
SUMMARY:Webinar: Introduction to CELC Membership
DESCRIPTION:Are you interested in learning more about the great benefits of membership to the Community Efficiency Leadership Coalition?  \n Join us for a membership demo with Shaun Auckland\, SPEER’s Senior Manager of Government and Community Engagement. Shaun will share information on CELC programs – from coaching and guidance to community collaboration opportunities – and attendees will be invited to ask questions. This demo is targeted to folks who are not currently members of CELC and want to learn more.  \n If you are a new member of CELC and looking to schedule your on-boarding\, please get in touch with sauckland@eepartnership.org directly. This meeting is held virtually via Zoom. Your link will be sent in your confirmation e-mail after registration.  \n\nTweet
URL:https://eepartnership.org/events/webinar-introduction-to-celc-membership/
END:VEVENT
BEGIN:VEVENT
DTSTART;TZID=America/Chicago:20260827T140000
DTEND;TZID=America/Chicago:20260827T150000
DTSTAMP:20260421T082700
CREATED:20260112T162557Z
LAST-MODIFIED:20260112T162557Z
UID:44265-1787839200-1787842800@eepartnership.org
SUMMARY:TEA-UP Coalition Quarterly Meeting
DESCRIPTION:Join SPEER’s TEA-UP coalition for our upcoming Quarterly Meeting—featuring expert insights\, updates on TEA-UP’s annual goals\, and space for member announcements and collaboration. \nHead here to join the meeting. \n\nTweet
URL:https://eepartnership.org/events/tea-up-coalition-quarterly-meeting-4/
END:VEVENT
END:VCALENDAR