BEGIN:VCALENDAR
VERSION:2.0
PRODID:-//SPEER - ECPv6.15.17.1//NONSGML v1.0//EN
CALSCALE:GREGORIAN
METHOD:PUBLISH
X-WR-CALNAME:SPEER
X-ORIGINAL-URL:https://eepartnership.org
X-WR-CALDESC:Events for SPEER
REFRESH-INTERVAL;VALUE=DURATION:PT1H
X-Robots-Tag:noindex
X-PUBLISHED-TTL:PT1H
BEGIN:VTIMEZONE
TZID:America/Chicago
BEGIN:DAYLIGHT
TZOFFSETFROM:-0600
TZOFFSETTO:-0500
TZNAME:CDT
DTSTART:20250309T080000
END:DAYLIGHT
BEGIN:STANDARD
TZOFFSETFROM:-0500
TZOFFSETTO:-0600
TZNAME:CST
DTSTART:20251102T070000
END:STANDARD
BEGIN:DAYLIGHT
TZOFFSETFROM:-0600
TZOFFSETTO:-0500
TZNAME:CDT
DTSTART:20260308T080000
END:DAYLIGHT
BEGIN:STANDARD
TZOFFSETFROM:-0500
TZOFFSETTO:-0600
TZNAME:CST
DTSTART:20261101T070000
END:STANDARD
BEGIN:DAYLIGHT
TZOFFSETFROM:-0600
TZOFFSETTO:-0500
TZNAME:CDT
DTSTART:20270314T080000
END:DAYLIGHT
BEGIN:STANDARD
TZOFFSETFROM:-0500
TZOFFSETTO:-0600
TZNAME:CST
DTSTART:20271107T070000
END:STANDARD
END:VTIMEZONE
BEGIN:VEVENT
DTSTART;TZID=America/Chicago:20260430T120000
DTEND;TZID=America/Chicago:20260430T130000
DTSTAMP:20260419T093143
CREATED:20260217T201534Z
LAST-MODIFIED:20260408T171306Z
UID:44406-1777550400-1777554000@eepartnership.org
SUMMARY:CELC Webinar: Utility-Sponsored Energy Efficiency Programs in Texas
DESCRIPTION:Learn about utility-sponsored programs in Texas designed to help commercial and industrial customers reduce energy demand and implement cost-effective efficiency upgrades. This webinar will provide an overview of different utility energy efficiency programs and eligible projects\, available incentives\, and how to take advantage of these programs. \nObjectives: \n\nAn overview of utility energy efficiency programs available to commercial customers\nIncentives and support options that can help offset the cost of energy efficiency improvements\nExpert guidance on how to successfully navigate program requirements and maximize available benefits\n\n\nSpeakers: \n\nJillian McFarland\, Program Manager\, Frontier Energy\nScott Wishart\, Senior Program Consultant\, Frontier Energy\n\n\nTweet
URL:https://eepartnership.org/events/celc-webinar-utility-sponsored-energy-efficiency-programs-in-texas/
END:VEVENT
END:VCALENDAR