BEGIN:VCALENDAR
VERSION:2.0
PRODID:-//SPEER - ECPv6.15.17.1//NONSGML v1.0//EN
CALSCALE:GREGORIAN
METHOD:PUBLISH
X-WR-CALNAME:SPEER
X-ORIGINAL-URL:https://eepartnership.org
X-WR-CALDESC:Events for SPEER
REFRESH-INTERVAL;VALUE=DURATION:PT1H
X-Robots-Tag:noindex
X-PUBLISHED-TTL:PT1H
BEGIN:VTIMEZONE
TZID:America/Chicago
BEGIN:DAYLIGHT
TZOFFSETFROM:-0600
TZOFFSETTO:-0500
TZNAME:CDT
DTSTART:20250309T080000
END:DAYLIGHT
BEGIN:STANDARD
TZOFFSETFROM:-0500
TZOFFSETTO:-0600
TZNAME:CST
DTSTART:20251102T070000
END:STANDARD
BEGIN:DAYLIGHT
TZOFFSETFROM:-0600
TZOFFSETTO:-0500
TZNAME:CDT
DTSTART:20260308T080000
END:DAYLIGHT
BEGIN:STANDARD
TZOFFSETFROM:-0500
TZOFFSETTO:-0600
TZNAME:CST
DTSTART:20261101T070000
END:STANDARD
BEGIN:DAYLIGHT
TZOFFSETFROM:-0600
TZOFFSETTO:-0500
TZNAME:CDT
DTSTART:20270314T080000
END:DAYLIGHT
BEGIN:STANDARD
TZOFFSETFROM:-0500
TZOFFSETTO:-0600
TZNAME:CST
DTSTART:20271107T070000
END:STANDARD
END:VTIMEZONE
BEGIN:VEVENT
DTSTART;TZID=America/Chicago:20260408T093000
DTEND;TZID=America/Chicago:20260408T120000
DTSTAMP:20260419T093153
CREATED:20260313T191937Z
LAST-MODIFIED:20260313T191937Z
UID:44462-1775640600-1775649600@eepartnership.org
SUMMARY:CAPCOG/SPEER Energy Workshop: Building Energy Codes
DESCRIPTION:CAPCOG and SPEER will conduct an interactive workshop on building energy codes and understanding their connection to regional air quality. \nRandy Plumlee\, SPEER’s Senior Manager of Building Performance\, will provide an overview of the newest 2024 IECC for residential and commercial buildings. He is the leading SPEER expert on compliance education and outreach to local areas in the region\, providing support to code jurisdictions seeking to adopt new codes\, training\, and building science support. \nThis workshop is intended for local government staff including administrators\, energy coordinators\, building officials\, facilities managers\, finance officers\, and anyone involved in energy management or utility data. \nMore info and registration here. \n\nTweet
URL:https://eepartnership.org/events/capcog-speer-energy-workshop-building-energy-codes/
LOCATION:St. Edwards University\, 3001 S Congress Ave\, Austin\, TX\, 78704\, United States
END:VEVENT
END:VCALENDAR