BEGIN:VCALENDAR
VERSION:2.0
PRODID:-//SPEER - ECPv6.15.17.1//NONSGML v1.0//EN
CALSCALE:GREGORIAN
METHOD:PUBLISH
X-WR-CALNAME:SPEER
X-ORIGINAL-URL:https://eepartnership.org
X-WR-CALDESC:Events for SPEER
REFRESH-INTERVAL;VALUE=DURATION:PT1H
X-Robots-Tag:noindex
X-PUBLISHED-TTL:PT1H
BEGIN:VTIMEZONE
TZID:America/Chicago
BEGIN:DAYLIGHT
TZOFFSETFROM:-0600
TZOFFSETTO:-0500
TZNAME:CDT
DTSTART:20230312T080000
END:DAYLIGHT
BEGIN:STANDARD
TZOFFSETFROM:-0500
TZOFFSETTO:-0600
TZNAME:CST
DTSTART:20231105T070000
END:STANDARD
BEGIN:DAYLIGHT
TZOFFSETFROM:-0600
TZOFFSETTO:-0500
TZNAME:CDT
DTSTART:20240310T080000
END:DAYLIGHT
BEGIN:STANDARD
TZOFFSETFROM:-0500
TZOFFSETTO:-0600
TZNAME:CST
DTSTART:20241103T070000
END:STANDARD
BEGIN:DAYLIGHT
TZOFFSETFROM:-0600
TZOFFSETTO:-0500
TZNAME:CDT
DTSTART:20250309T080000
END:DAYLIGHT
BEGIN:STANDARD
TZOFFSETFROM:-0500
TZOFFSETTO:-0600
TZNAME:CST
DTSTART:20251102T070000
END:STANDARD
END:VTIMEZONE
BEGIN:VEVENT
DTSTART;TZID=America/Chicago:20241205T100000
DTEND;TZID=America/Chicago:20241205T110000
DTSTAMP:20260421T101207
CREATED:20241024T133905Z
LAST-MODIFIED:20241024T133905Z
UID:42564-1733392800-1733396400@eepartnership.org
SUMMARY:CELC Webinar: Maximizing Your Grant Success From Application to Award
DESCRIPTION:Unlock the keys to grant success! Join SPEER and Learn Design Apply Inc.\, a leading grant consulting firm\, for an engaging and informative webinar on navigating the complex world of funding opportunities. Whether you’re new to the grant process or looking to sharpen your skills\, this session is designed to guide you through the entire grant lifecycle. \nTopics covered will include:\n• An overview of the current energy grant landscape and available funding sources\n• Proven strategies for crafting compelling and successful grant applications\n• Essential tips for effective post-award management and compliance\n• Alternative pathways and strategies for leveraging unsuccessful applications \nThis comprehensive webinar offers valuable insights for professionals across the energy sector\, helping you stay competitive in a rapidly evolving grant environment. Don’t miss this opportunity to boost your grant-writing and management expertise! \nPresenter: Megan Beresford \nCELC webinars are intended to extend the conversation about public sector energy management best practices through education\, training\, and discussion. Webinars are open to anyone interested in public energy management in Texas\, Oklahoma\, and beyond. \nHave questions or idea for future webinars? Contact Shaun Auckland\, Local Government Program Manager\, SPEER: cities@eepartnership.org. \n\nTweet
URL:https://eepartnership.org/events/celc-webinar-maximizing-your-grant-success-from-application-to-award/
END:VEVENT
END:VCALENDAR