BEGIN:VCALENDAR
VERSION:2.0
PRODID:-//SPEER - ECPv6.15.17.1//NONSGML v1.0//EN
CALSCALE:GREGORIAN
METHOD:PUBLISH
X-ORIGINAL-URL:https://eepartnership.org
X-WR-CALDESC:Events for SPEER
REFRESH-INTERVAL;VALUE=DURATION:PT1H
X-Robots-Tag:noindex
X-PUBLISHED-TTL:PT1H
BEGIN:VTIMEZONE
TZID:America/Chicago
BEGIN:DAYLIGHT
TZOFFSETFROM:-0600
TZOFFSETTO:-0500
TZNAME:CDT
DTSTART:20230312T080000
END:DAYLIGHT
BEGIN:STANDARD
TZOFFSETFROM:-0500
TZOFFSETTO:-0600
TZNAME:CST
DTSTART:20231105T070000
END:STANDARD
BEGIN:DAYLIGHT
TZOFFSETFROM:-0600
TZOFFSETTO:-0500
TZNAME:CDT
DTSTART:20240310T080000
END:DAYLIGHT
BEGIN:STANDARD
TZOFFSETFROM:-0500
TZOFFSETTO:-0600
TZNAME:CST
DTSTART:20241103T070000
END:STANDARD
BEGIN:DAYLIGHT
TZOFFSETFROM:-0600
TZOFFSETTO:-0500
TZNAME:CDT
DTSTART:20250309T080000
END:DAYLIGHT
BEGIN:STANDARD
TZOFFSETFROM:-0500
TZOFFSETTO:-0600
TZNAME:CST
DTSTART:20251102T070000
END:STANDARD
END:VTIMEZONE
BEGIN:VEVENT
DTSTART;TZID=America/Chicago:20241203T083000
DTEND;TZID=America/Chicago:20241203T120000
DTSTAMP:20260423T052832
CREATED:20241017T155127Z
LAST-MODIFIED:20241017T155127Z
UID:42541-1733214600-1733227200@eepartnership.org
SUMMARY:Building Operator Certification (BOC) Training Course
DESCRIPTION:Our winter BOC training and education course kicks off on December 3rd and runs through mid-March 2025! This course will be taught live\, via zoom by our approved instructors. Operations & maintenance best practices can save 5-20% annually on energy bills but buildings can only be operated efficiently if the building operator is properly trained. Participants will learn a range of building maintenance best practices including\, Energy efficient operation of building HVAC systems\, measuring and benching energy performance\, indoor environmental quality\, HVAC control fundamentals\, building scoping for operational improvement and much more. Learn more about the BOC Program. \nDownload the course syllabus here. \nSave your spot now! \n\nTweet
URL:https://eepartnership.org/events/building-operator-certification-boc-training-course/
CATEGORIES:SPEER events
END:VEVENT
END:VCALENDAR