BEGIN:VCALENDAR
VERSION:2.0
PRODID:-//SPEER - ECPv6.15.20//NONSGML v1.0//EN
CALSCALE:GREGORIAN
METHOD:PUBLISH
X-WR-CALNAME:SPEER
X-ORIGINAL-URL:https://eepartnership.org
X-WR-CALDESC:Events for SPEER
REFRESH-INTERVAL;VALUE=DURATION:PT1H
X-Robots-Tag:noindex
X-PUBLISHED-TTL:PT1H
BEGIN:VTIMEZONE
TZID:America/Chicago
BEGIN:DAYLIGHT
TZOFFSETFROM:-0600
TZOFFSETTO:-0500
TZNAME:CDT
DTSTART:20230312T080000
END:DAYLIGHT
BEGIN:STANDARD
TZOFFSETFROM:-0500
TZOFFSETTO:-0600
TZNAME:CST
DTSTART:20231105T070000
END:STANDARD
BEGIN:DAYLIGHT
TZOFFSETFROM:-0600
TZOFFSETTO:-0500
TZNAME:CDT
DTSTART:20240310T080000
END:DAYLIGHT
BEGIN:STANDARD
TZOFFSETFROM:-0500
TZOFFSETTO:-0600
TZNAME:CST
DTSTART:20241103T070000
END:STANDARD
BEGIN:DAYLIGHT
TZOFFSETFROM:-0600
TZOFFSETTO:-0500
TZNAME:CDT
DTSTART:20250309T080000
END:DAYLIGHT
BEGIN:STANDARD
TZOFFSETFROM:-0500
TZOFFSETTO:-0600
TZNAME:CST
DTSTART:20251102T070000
END:STANDARD
END:VTIMEZONE
BEGIN:VEVENT
DTSTART;TZID=America/Chicago:20240822T100000
DTEND;TZID=America/Chicago:20240822T110000
DTSTAMP:20260425T100150
CREATED:20240809T175308Z
LAST-MODIFIED:20240809T175308Z
UID:42277-1724320800-1724324400@eepartnership.org
SUMMARY:The Future of Hydrogen in Texas: Navigating New Policies and Opportunities
DESCRIPTION:Join us for an insightful webinar on the evolving landscape of hydrogen energy in Texas. As the state positions itself at the forefront of clean energy innovation\, recent hydrogen policies are shaping the future of this promising sector. This session will explore how new regulations and initiatives impact hydrogen development\, infrastructure\, and economic prospects in Texas. Whether you’re an industry professional\, policymaker\, or energy enthusiast\, this webinar will provide valuable insights into the intersection of hydrogen policy and its future in Texas. \nPresenter: Emily Beagle\, Ph.D.\, Research Associate\, The University of Texas at Austin\, Webber Energy Group \nCELC webinars are intended to extend the conversation about public sector energy management best practices through education\, training\, and discussion. Webinars are open to anyone interested in public energy management in Texas\, Oklahoma\, and beyond. \nHave questions or idea for future webinars? Contact Shaun Auckland\, Local Government Program Manager\, SPEER\, cities@eepartnership.org. \n\nTweet
URL:https://eepartnership.org/events/the-future-of-hydrogen-in-texas-navigating-new-policies-and-opportunities/
END:VEVENT
END:VCALENDAR