BEGIN:VCALENDAR
VERSION:2.0
PRODID:-//SPEER - ECPv6.15.17.1//NONSGML v1.0//EN
CALSCALE:GREGORIAN
METHOD:PUBLISH
X-WR-CALNAME:SPEER
X-ORIGINAL-URL:https://eepartnership.org
X-WR-CALDESC:Events for SPEER
REFRESH-INTERVAL;VALUE=DURATION:PT1H
X-Robots-Tag:noindex
X-PUBLISHED-TTL:PT1H
BEGIN:VTIMEZONE
TZID:America/Chicago
BEGIN:DAYLIGHT
TZOFFSETFROM:-0600
TZOFFSETTO:-0500
TZNAME:CDT
DTSTART:20230312T080000
END:DAYLIGHT
BEGIN:STANDARD
TZOFFSETFROM:-0500
TZOFFSETTO:-0600
TZNAME:CST
DTSTART:20231105T070000
END:STANDARD
BEGIN:DAYLIGHT
TZOFFSETFROM:-0600
TZOFFSETTO:-0500
TZNAME:CDT
DTSTART:20240310T080000
END:DAYLIGHT
BEGIN:STANDARD
TZOFFSETFROM:-0500
TZOFFSETTO:-0600
TZNAME:CST
DTSTART:20241103T070000
END:STANDARD
BEGIN:DAYLIGHT
TZOFFSETFROM:-0600
TZOFFSETTO:-0500
TZNAME:CDT
DTSTART:20250309T080000
END:DAYLIGHT
BEGIN:STANDARD
TZOFFSETFROM:-0500
TZOFFSETTO:-0600
TZNAME:CST
DTSTART:20251102T070000
END:STANDARD
END:VTIMEZONE
BEGIN:VEVENT
DTSTART;TZID=America/Chicago:20240530T130000
DTEND;TZID=America/Chicago:20240530T140000
DTSTAMP:20260420T053550
CREATED:20240510T172843Z
LAST-MODIFIED:20240510T172843Z
UID:41648-1717074000-1717077600@eepartnership.org
SUMMARY:SECO Grant Webinar: Empowering Energy Efficiency & Sustainability
DESCRIPTION:SECO will provide reimbursable grants as part of the Infrastructure and Investment Jobs Act (IIJA) to support state organizations’ efforts in energy efficiency\, sustainability\, and workforce development. Over $30\,000\,000 in funding will be used for multiple programs\, with the intent of reducing carbon emissions in all sectors of the economy. \nPublic school districts\, rural and community hospitals\, and tribal governments can apply for funding to assist in lighting retrofit projects and solar/battery-powered storage system implementation. Additionally\, Texas community colleges and technical schools will have the chance to expand their energy-efficiency certification programs by applying for funding to purchase equipment that will help bring new learning opportunities for their students. \n\nTweet
URL:https://eepartnership.org/events/seco-grant-webinar-empowering-energy-efficiency-sustainability/
END:VEVENT
END:VCALENDAR