BEGIN:VCALENDAR
VERSION:2.0
PRODID:-//SPEER - ECPv6.15.17.1//NONSGML v1.0//EN
CALSCALE:GREGORIAN
METHOD:PUBLISH
X-WR-CALNAME:SPEER
X-ORIGINAL-URL:https://eepartnership.org
X-WR-CALDESC:Events for SPEER
REFRESH-INTERVAL;VALUE=DURATION:PT1H
X-Robots-Tag:noindex
X-PUBLISHED-TTL:PT1H
BEGIN:VTIMEZONE
TZID:America/Chicago
BEGIN:DAYLIGHT
TZOFFSETFROM:-0600
TZOFFSETTO:-0500
TZNAME:CDT
DTSTART:20230312T080000
END:DAYLIGHT
BEGIN:STANDARD
TZOFFSETFROM:-0500
TZOFFSETTO:-0600
TZNAME:CST
DTSTART:20231105T070000
END:STANDARD
BEGIN:DAYLIGHT
TZOFFSETFROM:-0600
TZOFFSETTO:-0500
TZNAME:CDT
DTSTART:20240310T080000
END:DAYLIGHT
BEGIN:STANDARD
TZOFFSETFROM:-0500
TZOFFSETTO:-0600
TZNAME:CST
DTSTART:20241103T070000
END:STANDARD
BEGIN:DAYLIGHT
TZOFFSETFROM:-0600
TZOFFSETTO:-0500
TZNAME:CDT
DTSTART:20250309T080000
END:DAYLIGHT
BEGIN:STANDARD
TZOFFSETFROM:-0500
TZOFFSETTO:-0600
TZNAME:CST
DTSTART:20251102T070000
END:STANDARD
END:VTIMEZONE
BEGIN:VEVENT
DTSTART;VALUE=DATE:20240415
DTEND;VALUE=DATE:20240419
DTSTAMP:20260420T053540
CREATED:20240325T182731Z
LAST-MODIFIED:20240325T182731Z
UID:41285-1713139200-1713484799@eepartnership.org
SUMMARY:Energy Thought Summit
DESCRIPTION:Energy Thought Summit (ETS) has an impressive lineup of 70 confirmed speakers for its 11th annual event\, scheduled to take place at the Marriott Downtown in Austin\, TX\, from April 15-18\, 2024. The theme for this year’s summit is “Imagine\,” inviting participants to reflect on the industry’s past achievements while envisioning and working towards a future powered by clean\, accessible energy sources. \nSPEER will be speaking on the April 17th session: Decarbonizing Heat and Buildings – Innovative Solutions for Energy Efficiency and Electrification. Join us and many other energy experts as we explore energy equity and resilience\, and a future powered by clean\, accessible energy sources. Learn more and register here. \n\nTweet
URL:https://eepartnership.org/events/energy-thought-summit/
END:VEVENT
END:VCALENDAR