BEGIN:VCALENDAR
VERSION:2.0
PRODID:-//SPEER - ECPv6.15.17.1//NONSGML v1.0//EN
CALSCALE:GREGORIAN
METHOD:PUBLISH
X-WR-CALNAME:SPEER
X-ORIGINAL-URL:https://eepartnership.org
X-WR-CALDESC:Events for SPEER
REFRESH-INTERVAL;VALUE=DURATION:PT1H
X-Robots-Tag:noindex
X-PUBLISHED-TTL:PT1H
BEGIN:VTIMEZONE
TZID:America/Chicago
BEGIN:DAYLIGHT
TZOFFSETFROM:-0600
TZOFFSETTO:-0500
TZNAME:CDT
DTSTART:20220313T080000
END:DAYLIGHT
BEGIN:STANDARD
TZOFFSETFROM:-0500
TZOFFSETTO:-0600
TZNAME:CST
DTSTART:20221106T070000
END:STANDARD
BEGIN:DAYLIGHT
TZOFFSETFROM:-0600
TZOFFSETTO:-0500
TZNAME:CDT
DTSTART:20230312T080000
END:DAYLIGHT
BEGIN:STANDARD
TZOFFSETFROM:-0500
TZOFFSETTO:-0600
TZNAME:CST
DTSTART:20231105T070000
END:STANDARD
BEGIN:DAYLIGHT
TZOFFSETFROM:-0600
TZOFFSETTO:-0500
TZNAME:CDT
DTSTART:20240310T080000
END:DAYLIGHT
BEGIN:STANDARD
TZOFFSETFROM:-0500
TZOFFSETTO:-0600
TZNAME:CST
DTSTART:20241103T070000
END:STANDARD
END:VTIMEZONE
BEGIN:VEVENT
DTSTART;TZID=America/Chicago:20230914T120000
DTEND;TZID=America/Chicago:20230915T150000
DTSTAMP:20260420T094210
CREATED:20230417T214232Z
LAST-MODIFIED:20230623T160040Z
UID:40121-1694692800-1694790000@eepartnership.org
SUMMARY:SPEER Annual Policy + Industry Workshop
DESCRIPTION:Join SPEER members\, partners\, and allies for two days of energy dialogue. During our annual workshop\, we’ll discuss the changing energy landscape\, regional grid issues\, record setting demand\, demand-side solutions as well as national trends. As the 88th Texas legislative session and 59th Oklahoma legislative session both conclude we will exchange thoughts on energy policies: How to improve energy efficiency adoption in the South-central region\, ways to better engage stakeholders with policymakers\, increasing the adoption of DERs\, and much more. Our focus will be tailored to important topics facings all consumers including increasing reliability and lowering consumer energy costs as we continue the energy transition. \nJoin us! \n\nTweet
URL:https://eepartnership.org/events/speer-annual-policy-industry-workshop/
LOCATION:Archer Hotel\, 3121 Palm Way\, Austin\, 78758\, United States
CATEGORIES:SPEER events
END:VEVENT
END:VCALENDAR