BEGIN:VCALENDAR
VERSION:2.0
PRODID:-//SPEER - ECPv6.15.17.1//NONSGML v1.0//EN
CALSCALE:GREGORIAN
METHOD:PUBLISH
X-ORIGINAL-URL:https://eepartnership.org
X-WR-CALDESC:Events for SPEER
REFRESH-INTERVAL;VALUE=DURATION:PT1H
X-Robots-Tag:noindex
X-PUBLISHED-TTL:PT1H
BEGIN:VTIMEZONE
TZID:America/Chicago
BEGIN:DAYLIGHT
TZOFFSETFROM:-0600
TZOFFSETTO:-0500
TZNAME:CDT
DTSTART:20220313T080000
END:DAYLIGHT
BEGIN:STANDARD
TZOFFSETFROM:-0500
TZOFFSETTO:-0600
TZNAME:CST
DTSTART:20221106T070000
END:STANDARD
BEGIN:DAYLIGHT
TZOFFSETFROM:-0600
TZOFFSETTO:-0500
TZNAME:CDT
DTSTART:20230312T080000
END:DAYLIGHT
BEGIN:STANDARD
TZOFFSETFROM:-0500
TZOFFSETTO:-0600
TZNAME:CST
DTSTART:20231105T070000
END:STANDARD
BEGIN:DAYLIGHT
TZOFFSETFROM:-0600
TZOFFSETTO:-0500
TZNAME:CDT
DTSTART:20240310T080000
END:DAYLIGHT
BEGIN:STANDARD
TZOFFSETFROM:-0500
TZOFFSETTO:-0600
TZNAME:CST
DTSTART:20241103T070000
END:STANDARD
END:VTIMEZONE
BEGIN:VEVENT
DTSTART;TZID=America/Chicago:20230525T140000
DTEND;TZID=America/Chicago:20230525T183000
DTSTAMP:20260420T093915
CREATED:20230414T143531Z
LAST-MODIFIED:20230426T200754Z
UID:40100-1685023200-1685039400@eepartnership.org
SUMMARY:Dallas In-person Workshop + Happy Hour
DESCRIPTION:SPEER\, in collaboration with the Energy Services Coalition (ESC) Texas Chapter\, will feature a panel discussion focused on “No dollar left behind”. The panel will provide up-to-date information on the Investment & Infrastructure Jobs Act (II&JA)\, the Inflation Reduction Act (IRA)\, the expected flow of funds and timeframes\, what is included in the bill relevant to our audience\, how to seek funds\, and offer a forum for questions to our panel of experts. Our guest panelists include: \n→ Eddy Trevino\, State Energy Conservation Office (SECO)→ Crystal Perkins\, South Central Regional Intergovernmental and External Affairs Specialist\, DOE→ Cassidy Ellis\, Ameresco→ Shaun Auckland\, SPEER \nAs we continue to host these discussions around the topics most important to Texas and how to expand energy efficiency to ensure grid reliability\, we invite you to get involved. If you would like to sponsor\, present on a specific topic\, or have questions\, please reach out to our Interim Managing Director\, Liz John\, at ejohn@eepartnership.org. \nWorkshop details: \n\nMay 25th\, 2-4:30 PM\nTopic: No Dollar Left Behind\nLocation: J. Erik Jonsson Central Library (Hamon Room – 5th Floor) 1515 Young StDallas\, TX 75201** The library offers free parking\n\nNetworking Happy Hour:**Drinks and apps will be provided. \n\nMay 25th\, 4:30-6:30 PM\nLocation: Harwood Tavern: 333 Harwood Street\, Dallas TX 75201**Free parking located on the corner of Wood St. and South St. Paul St.\, directly behind the First Presbyterian Church of Dallas.\n\nRegister here \n			\n			\n				\n				\n				\n				\n			\n				\n				\n			\n\nTweet
URL:https://eepartnership.org/events/dfw-live-in-person-regional-workshop-happy-hour/
LOCATION:J. Erik Jonsson Central Library (Hamon Room – 5th Floor)\, 1515 Young Street\, Dallas\, Texas\, 75201\, United States
CATEGORIES:SPEER events
END:VEVENT
END:VCALENDAR