BEGIN:VCALENDAR
VERSION:2.0
PRODID:-//SPEER - ECPv6.15.17.1//NONSGML v1.0//EN
CALSCALE:GREGORIAN
METHOD:PUBLISH
X-WR-CALNAME:SPEER
X-ORIGINAL-URL:https://eepartnership.org
X-WR-CALDESC:Events for SPEER
REFRESH-INTERVAL;VALUE=DURATION:PT1H
X-Robots-Tag:noindex
X-PUBLISHED-TTL:PT1H
BEGIN:VTIMEZONE
TZID:America/Chicago
BEGIN:DAYLIGHT
TZOFFSETFROM:-0600
TZOFFSETTO:-0500
TZNAME:CDT
DTSTART:20220313T080000
END:DAYLIGHT
BEGIN:STANDARD
TZOFFSETFROM:-0500
TZOFFSETTO:-0600
TZNAME:CST
DTSTART:20221106T070000
END:STANDARD
BEGIN:DAYLIGHT
TZOFFSETFROM:-0600
TZOFFSETTO:-0500
TZNAME:CDT
DTSTART:20230312T080000
END:DAYLIGHT
BEGIN:STANDARD
TZOFFSETFROM:-0500
TZOFFSETTO:-0600
TZNAME:CST
DTSTART:20231105T070000
END:STANDARD
BEGIN:DAYLIGHT
TZOFFSETFROM:-0600
TZOFFSETTO:-0500
TZNAME:CDT
DTSTART:20240310T080000
END:DAYLIGHT
BEGIN:STANDARD
TZOFFSETFROM:-0500
TZOFFSETTO:-0600
TZNAME:CST
DTSTART:20241103T070000
END:STANDARD
END:VTIMEZONE
BEGIN:VEVENT
DTSTART;TZID=America/Chicago:20230412T140000
DTEND;TZID=America/Chicago:20230412T150000
DTSTAMP:20260421T071626
CREATED:20230331T192505Z
LAST-MODIFIED:20230331T192505Z
UID:40004-1681308000-1681311600@eepartnership.org
SUMMARY:Webinar: Industrial Energy Efficiency in a volatile\, high price energy market
DESCRIPTION:SPEER is a member of the Texas Industrial Energy Efficiency Network (TIEEN)\, a network of publicly supported industrial energy-efficiency organizations. TIEEN will present its annual collaborative webinar Wednesday\, April 12\, 2023\, 2:00-3:30 pm (Central). This will be a panel discussion on the topic of Industrial Energy Efficiency in a volatile\, high-price energy market. We invite you to join us at this thought-provoking event\, as we grapple with this challenging topic. Confirmed panelists are: \n\nDerek Reese\, Policy Advisor for the American Petroleum Institute\nJamie Brick\, Expert Engagement Manager at McKinsey\n\nRegistration is open here.\nAdditional details\, including more panelists\, will be announced shortly. See here. \n\nTweet
URL:https://eepartnership.org/events/webinar-industrial-energy-efficiency-in-a-volatile-high-price-energy-market/
LOCATION:Remote/virtual
END:VEVENT
END:VCALENDAR